BEGIN:VCALENDAR
VERSION:2.0
PRODID:-//wp-events-plugin.com//7.2.3.1//EN
TZID:America/Denver
X-WR-TIMEZONE:America/Denver
BEGIN:VEVENT
UID:2554@nfseniorconnections.org
DTSTART;TZID=America/Denver:20260317T140000
DTEND;TZID=America/Denver:20260317T150000
DTSTAMP:20260303T213506Z
URL:https://nfseniorconnections.org/events/understanding-the-dementia-univ
 erse/
SUMMARY:Understanding the Dementia Universe
DESCRIPTION:March 17\, Paonia @ 2 pm\; Jess Deegan\, former Professor of Ne
 uropsychology and currently as a CareGiver for his wife who has Alzheimer
 ´s. Dr. Deegan is current President of the Board for Awareness\, Support\
 , and Education about Dementia for Delta County (ASEDD). Learn about the u
 nderlying physiological issue causing Dementia\, how to be the Best CareGi
 ver possible\, and hope for the future.
CATEGORIES:Activities
LOCATION:Paonia Senior Center\, 106 3rd St\, Paonia\, Colorado\, 81428\, Un
 ited States
X-APPLE-STRUCTURED-LOCATION;VALUE=URI;X-ADDRESS=106 3rd St\, Paonia\, Color
 ado\, 81428\, United States;X-APPLE-RADIUS=100;X-TITLE=Paonia Senior Cente
 r:geo:0,0
END:VEVENT
BEGIN:VTIMEZONE
TZID:America/Denver
X-LIC-LOCATION:America/Denver
BEGIN:DAYLIGHT
DTSTART:20260308T030000
TZOFFSETFROM:-0700
TZOFFSETTO:-0600
TZNAME:MDT
END:DAYLIGHT
END:VTIMEZONE
END:VCALENDAR