BEGIN:VCALENDAR
VERSION:2.0
PRODID:-//wp-events-plugin.com//7.2.3.1//EN
TZID:America/Denver
X-WR-TIMEZONE:America/Denver
BEGIN:VEVENT
UID:1891@nfseniorconnections.org
DTSTART;TZID=America/Denver:20250513T140000
DTEND;TZID=America/Denver:20250513T150000
DTSTAMP:20250503T004919Z
URL:https://nfseniorconnections.org/events/tuesdaystwo-song-circle/
SUMMARY:Tuesdays@Two - Song Circle
DESCRIPTION:Singer/songwriter Ellen Stapenhorst facilitates the monthly Son
 g Circle on the second Tuesday of each month. Join us to experience the jo
 y of singing with others. No skill or talent required!  As Ellen says\, 
 “These days\, any chance to come together in harmony is a gift.”
CATEGORIES:Activities
LOCATION:Paonia Senior Center\, 106 3rd St\, Paonia\, Colorado\, 81428\, Un
 ited States
X-APPLE-STRUCTURED-LOCATION;VALUE=URI;X-ADDRESS=106 3rd St\, Paonia\, Color
 ado\, 81428\, United States;X-APPLE-RADIUS=100;X-TITLE=Paonia Senior Cente
 r:geo:0,0
END:VEVENT
BEGIN:VTIMEZONE
TZID:America/Denver
X-LIC-LOCATION:America/Denver
BEGIN:DAYLIGHT
DTSTART:20250309T030000
TZOFFSETFROM:-0700
TZOFFSETTO:-0600
TZNAME:MDT
END:DAYLIGHT
END:VTIMEZONE
END:VCALENDAR