BEGIN:VCALENDAR
VERSION:2.0
PRODID:-//wp-events-plugin.com//7.2.3.1//EN
TZID:America/Denver
X-WR-TIMEZONE:America/Denver
BEGIN:VEVENT
UID:2079@nfseniorconnections.org
DTSTART;TZID=America/Denver:20250812T140000
DTEND;TZID=America/Denver:20250812T150000
DTSTAMP:20250801T201421Z
URL:https://nfseniorconnections.org/events/tuesdays2-song-circle-with-elle
 n/
SUMMARY:Tuesdays@2: Song Circle with Ellen
DESCRIPTION:Ellen Stapenhorst brings her unique musical talents to the Seni
 or Center for a group singalong. Add your voice to the mix!
CATEGORIES:Activities,Health &amp; Wellness
LOCATION:Paonia Senior Center\, 106 3rd St\, Paonia\, Colorado\, 81428\, Un
 ited States
X-APPLE-STRUCTURED-LOCATION;VALUE=URI;X-ADDRESS=106 3rd St\, Paonia\, Color
 ado\, 81428\, United States;X-APPLE-RADIUS=100;X-TITLE=Paonia Senior Cente
 r:geo:0,0
END:VEVENT
BEGIN:VTIMEZONE
TZID:America/Denver
X-LIC-LOCATION:America/Denver
BEGIN:DAYLIGHT
DTSTART:20250309T030000
TZOFFSETFROM:-0700
TZOFFSETTO:-0600
TZNAME:MDT
END:DAYLIGHT
END:VTIMEZONE
END:VCALENDAR