BEGIN:VCALENDAR
VERSION:2.0
PRODID:-//wp-events-plugin.com//7.2.3.1//EN
TZID:America/Denver
X-WR-TIMEZONE:America/Denver
BEGIN:VEVENT
UID:1629@nfseniorconnections.org
DTSTART;TZID=America/Denver:20250422T140000
DTEND;TZID=America/Denver:20250422T150000
DTSTAMP:20250402T183316Z
URL:https://nfseniorconnections.org/events/tuesdays2-senior-book-club/
SUMMARY:Tuesdays@2: Senior Book Club
DESCRIPTION:Every fourth Thursday of the month the Seniors Book Club gather
 s to discover and discuss great reads. This month we'll be reading Refuge:
  An Unnatural History of Family and Place by the amazing writer Terry Temp
 est Williams.
CATEGORIES:Activities
LOCATION:Paonia Senior Center\, 106 3rd St\, Paonia\, Colorado\, 81428\, Un
 ited States
X-APPLE-STRUCTURED-LOCATION;VALUE=URI;X-ADDRESS=106 3rd St\, Paonia\, Color
 ado\, 81428\, United States;X-APPLE-RADIUS=100;X-TITLE=Paonia Senior Cente
 r:geo:0,0
END:VEVENT
BEGIN:VTIMEZONE
TZID:America/Denver
X-LIC-LOCATION:America/Denver
BEGIN:DAYLIGHT
DTSTART:20250309T030000
TZOFFSETFROM:-0700
TZOFFSETTO:-0600
TZNAME:MDT
END:DAYLIGHT
END:VTIMEZONE
END:VCALENDAR