BEGIN:VCALENDAR
VERSION:2.0
PRODID:-//wp-events-plugin.com//7.2.3.1//EN
TZID:America/Denver
X-WR-TIMEZONE:America/Denver
BEGIN:VEVENT
UID:2077@nfseniorconnections.org
DTSTART;TZID=America/Denver:20250805T140000
DTEND;TZID=America/Denver:20250805T144500
DTSTAMP:20250801T195830Z
URL:https://nfseniorconnections.org/events/tuesdays2-breathe-to-save-your-
 life/
SUMMARY:Tuesdays@2: Breathe to Save Your Life
DESCRIPTION:Derek Udy continues his popular lecture &amp\; breathing techni
 que series in August at the Paonia Senior Center. Classes start promptly a
 t 2 o'clock and last approximately 45 minutes. Donations greatly appreciat
 ed.
CATEGORIES:Activities
LOCATION:Paonia Senior Center\, 106 3rd St\, Paonia\, Colorado\, 81428\, Un
 ited States
X-APPLE-STRUCTURED-LOCATION;VALUE=URI;X-ADDRESS=106 3rd St\, Paonia\, Color
 ado\, 81428\, United States;X-APPLE-RADIUS=100;X-TITLE=Paonia Senior Cente
 r:geo:0,0
END:VEVENT
BEGIN:VTIMEZONE
TZID:America/Denver
X-LIC-LOCATION:America/Denver
BEGIN:DAYLIGHT
DTSTART:20250309T030000
TZOFFSETFROM:-0700
TZOFFSETTO:-0600
TZNAME:MDT
END:DAYLIGHT
END:VTIMEZONE
END:VCALENDAR