BEGIN:VCALENDAR
VERSION:2.0
PRODID:-//wp-events-plugin.com//7.2.3.1//EN
TZID:America/Denver
X-WR-TIMEZONE:America/Denver
BEGIN:VEVENT
UID:2151@nfseniorconnections.org
DTSTART;TZID=America/Denver:20260205T120000
DTEND;TZID=America/Denver:20260226T130000
DTSTAMP:20260219T031516Z
URL:https://nfseniorconnections.org/events/thursday-paonia-lunch/
SUMMARY:Thursday Paonia Lunch
DESCRIPTION:3rd- Rio Bravo\n12th- Flying Fork\n19th- Chrys Bailey\n26th- Cl
 emie Bouton
CATEGORIES:Meals
END:VEVENT
BEGIN:VTIMEZONE
TZID:America/Denver
X-LIC-LOCATION:America/Denver
BEGIN:STANDARD
DTSTART:20251102T010000
TZOFFSETFROM:-0600
TZOFFSETTO:-0700
TZNAME:MST
END:STANDARD
END:VTIMEZONE
END:VCALENDAR