BEGIN:VCALENDAR
VERSION:2.0
PRODID:-//wp-events-plugin.com//7.2.3.1//EN
TZID:America/Denver
X-WR-TIMEZONE:America/Denver
BEGIN:VEVENT
UID:1568@nfseniorconnections.org
DTSTART;TZID=America/Denver:20250306T120000
DTEND;TZID=America/Denver:20250306T130000
DTSTAMP:20250307T223945Z
URL:https://nfseniorconnections.org/events/thursday-catered-lunch/
SUMMARY:Thursday Catered Lunch
DESCRIPTION:Catered lunches @ Paonia Senior Center Thursdays @ Noon. Flying
  Fork 3/6\; Potluck 3/13\; AP Catering 3/20\; Chrys Bailey 3/27.\n\nSign u
 p starts Friday before next Thursday’s lunch by calling 527.3435\, or si
 gning up in person at the Senior Center. $5-6 per person
CATEGORIES:Activities,Meals
LOCATION:Paonia Senior Center\, 106 3rd St\, Paonia\, Colorado\, 81428\, Un
 ited States
X-APPLE-STRUCTURED-LOCATION;VALUE=URI;X-ADDRESS=106 3rd St\, Paonia\, Color
 ado\, 81428\, United States;X-APPLE-RADIUS=100;X-TITLE=Paonia Senior Cente
 r:geo:0,0
END:VEVENT
BEGIN:VTIMEZONE
TZID:America/Denver
X-LIC-LOCATION:America/Denver
BEGIN:STANDARD
DTSTART:20241103T010000
TZOFFSETFROM:-0600
TZOFFSETTO:-0700
TZNAME:MST
END:STANDARD
END:VTIMEZONE
END:VCALENDAR