BEGIN:VCALENDAR
VERSION:2.0
PRODID:-//wp-events-plugin.com//7.2.3.1//EN
TZID:America/Denver
X-WR-TIMEZONE:America/Denver
BEGIN:VEVENT
UID:2171@nfseniorconnections.org
DTSTART;TZID=America/Denver:20260217T180000
DTEND;TZID=America/Denver:20260217T193000
DTSTAMP:20260217T203946Z
URL:https://nfseniorconnections.org/events/shakespeare-discussion-group-pa
 onia/
SUMMARY:Shakespeare Discussion Group Paonia
DESCRIPTION:"A Winter's Tale"
CATEGORIES:Activities
END:VEVENT
BEGIN:VTIMEZONE
TZID:America/Denver
X-LIC-LOCATION:America/Denver
BEGIN:STANDARD
DTSTART:20251102T010000
TZOFFSETFROM:-0600
TZOFFSETTO:-0700
TZNAME:MST
END:STANDARD
END:VTIMEZONE
END:VCALENDAR