BEGIN:VCALENDAR
VERSION:2.0
PRODID:-//wp-events-plugin.com//7.2.3.1//EN
TZID:America/Denver
X-WR-TIMEZONE:America/Denver
BEGIN:VEVENT
UID:1883@nfseniorconnections.org
DTSTART;TZID=America/Denver:20251028T180000
DTEND;TZID=America/Denver:20251028T193000
DTSTAMP:20250801T220739Z
URL:https://nfseniorconnections.org/events/shakespeare-discussion-group-20
 25-10-28/
SUMMARY:Shakespeare Discussion Group
DESCRIPTION:The Shakespeare Book Club meets regularly on designated Tuesday
 s to discuss a play we've read and share ideas and information about stage
 d plays\, film versions\, critical commentary\, and more. Our group includ
 es folks brand new to Shakespeare\, actors\, Shakespeare geeks\, and even 
 a Ph.D in literature! We welcome everybody. Our next meeting is April 29\,
  Tuesday\, 6 p.m.\, to discuss "The Comedy of Errors." Read the play\, or 
 watch a filmed version\, and come to discuss.\n\nFor additional informatio
 n call Jane McGarry at (970) 433-0482
CATEGORIES:Activities
LOCATION:Paonia Senior Center\, 106 3rd St\, Paonia\, Colorado\, 81428\, Un
 ited States
X-APPLE-STRUCTURED-LOCATION;VALUE=URI;X-ADDRESS=106 3rd St\, Paonia\, Color
 ado\, 81428\, United States;X-APPLE-RADIUS=100;X-TITLE=Paonia Senior Cente
 r:geo:0,0
END:VEVENT
BEGIN:VTIMEZONE
TZID:America/Denver
X-LIC-LOCATION:America/Denver
BEGIN:DAYLIGHT
DTSTART:20250309T030000
TZOFFSETFROM:-0700
TZOFFSETTO:-0600
TZNAME:MDT
END:DAYLIGHT
END:VTIMEZONE
END:VCALENDAR