BEGIN:VCALENDAR
VERSION:2.0
PRODID:-//wp-events-plugin.com//7.2.3.1//EN
TZID:America/Denver
X-WR-TIMEZONE:America/Denver
BEGIN:VEVENT
UID:1895@nfseniorconnections.org
DTSTART;TZID=America/Denver:20250603T180000
DTEND;TZID=America/Denver:20250603T193000
DTSTAMP:20250601T005350Z
URL:https://nfseniorconnections.org/events/shakespeare-book-club/
SUMMARY:Shakespeare Book Club
DESCRIPTION:The Shakespeare Book Club meets on designated Tuesdays to discu
 ss a play we’ve read and share ideas and information about staged plays\
 , film versions\, critical commentary\, and more. Our group includes folks
  brand new to Shakespeare\, actors\, Shakespeare geeks\, and even a Ph.D i
 n literature! Everyone is welcome. The next meeting is\nJune 3\, Tuesday\,
  6 p.m.\, to discuss “Two Gentlemen of Verona.” Read the play\, or wat
 ch a filmed version\, and join the lively discussion.
CATEGORIES:Activities
LOCATION:Paonia Senior Center\, 106 3rd St\, Paonia\, Colorado\, 81428\, Un
 ited States
X-APPLE-STRUCTURED-LOCATION;VALUE=URI;X-ADDRESS=106 3rd St\, Paonia\, Color
 ado\, 81428\, United States;X-APPLE-RADIUS=100;X-TITLE=Paonia Senior Cente
 r:geo:0,0
END:VEVENT
BEGIN:VTIMEZONE
TZID:America/Denver
X-LIC-LOCATION:America/Denver
BEGIN:DAYLIGHT
DTSTART:20250309T030000
TZOFFSETFROM:-0700
TZOFFSETTO:-0600
TZNAME:MDT
END:DAYLIGHT
END:VTIMEZONE
END:VCALENDAR