BEGIN:VCALENDAR
VERSION:2.0
PRODID:-//wp-events-plugin.com//7.2.3.1//EN
TZID:America/Denver
X-WR-TIMEZONE:America/Denver
BEGIN:VEVENT
UID:2081@nfseniorconnections.org
DTSTART;TZID=America/Denver:20250825T120000
DTEND;TZID=America/Denver:20250825T140000
DTSTAMP:20250801T204142Z
URL:https://nfseniorconnections.org/events/seniors-on-farms/
SUMMARY:Seniors on Farms
DESCRIPTION:The hemp grows high out at Fields of Glory Organic Farm. Owners
  Claure and Steve Schauer invite local seniors for a tour and picnic along
  the North Fork River on Monday\, August 25th. at noon.\n\nIt’s a brown-
 bag affair\, so bring your own lunch and tableware. If you’d like to att
 end\, please email Laura Lee at nfseniorconnections@gmail.com or leave a m
 essage at 970.527.3482 by end-of-day 8/22 so we can carpool and know how m
 uch lemonade to bring!\n\nGreat CBD products available for sale
CATEGORIES:Activities
LOCATION:Paonia Senior Center\, 106 3rd St\, Paonia\, Colorado\, 81428\, Un
 ited States
X-APPLE-STRUCTURED-LOCATION;VALUE=URI;X-ADDRESS=106 3rd St\, Paonia\, Color
 ado\, 81428\, United States;X-APPLE-RADIUS=100;X-TITLE=Paonia Senior Cente
 r:geo:0,0
END:VEVENT
BEGIN:VTIMEZONE
TZID:America/Denver
X-LIC-LOCATION:America/Denver
BEGIN:DAYLIGHT
DTSTART:20250309T030000
TZOFFSETFROM:-0700
TZOFFSETTO:-0600
TZNAME:MDT
END:DAYLIGHT
END:VTIMEZONE
END:VCALENDAR