BEGIN:VCALENDAR
VERSION:2.0
PRODID:-//wp-events-plugin.com//7.2.3.1//EN
TZID:America/Denver
X-WR-TIMEZONE:America/Denver
BEGIN:VEVENT
UID:1422@nfseniorconnections.org
DTSTART;TZID=America/Denver:20250225T140000
DTEND;TZID=America/Denver:20250225T150000
DTSTAMP:20250203T211806Z
URL:https://nfseniorconnections.org/events/senior-book-club-2/
SUMMARY:Senior Book Club
DESCRIPTION:The Book Club gathers at the Senior Center on the fourth Tuesda
 y of every month. We'll discuss our Favorite Book or Books of 2024\, ficti
 on or non-fiction\, and pick topics for upcoming gatherings.
CATEGORIES:Activities
LOCATION:Paonia Senior Center\, 106 3rd St\, Paonia\, Colorado\, 81428\, Un
 ited States
X-APPLE-STRUCTURED-LOCATION;VALUE=URI;X-ADDRESS=106 3rd St\, Paonia\, Color
 ado\, 81428\, United States;X-APPLE-RADIUS=100;X-TITLE=Paonia Senior Cente
 r:geo:0,0
END:VEVENT
BEGIN:VTIMEZONE
TZID:America/Denver
X-LIC-LOCATION:America/Denver
BEGIN:STANDARD
DTSTART:20241103T010000
TZOFFSETFROM:-0600
TZOFFSETTO:-0700
TZNAME:MST
END:STANDARD
END:VTIMEZONE
END:VCALENDAR