BEGIN:VCALENDAR
VERSION:2.0
PRODID:-//wp-events-plugin.com//7.2.3.1//EN
TZID:America/Denver
X-WR-TIMEZONE:America/Denver
BEGIN:VEVENT
UID:2181@nfseniorconnections.org
DTSTART;TZID=America/Denver:20260203T100000
DTEND;TZID=America/Denver:20260227T110000
DTSTAMP:20260219T032605Z
URL:https://nfseniorconnections.org/events/s-a-i-l-exercise-class-paonia-1
 1/
SUMMARY:S.A.I.L. Exercise Class Paonia
DESCRIPTION:Stay Active and Independent for Life (SAIL) Exercise and fall p
 revention classes presented by\nthe North Fork EMS: Paonia Senior Center\n
 Tues &amp\; Fri 10:00 – 11:00.
CATEGORIES:Health &amp; Wellness
END:VEVENT
BEGIN:VTIMEZONE
TZID:America/Denver
X-LIC-LOCATION:America/Denver
BEGIN:STANDARD
DTSTART:20251102T010000
TZOFFSETFROM:-0600
TZOFFSETTO:-0700
TZNAME:MST
END:STANDARD
END:VTIMEZONE
END:VCALENDAR