BEGIN:VCALENDAR
VERSION:2.0
PRODID:-//wp-events-plugin.com//7.2.3.1//EN
TZID:America/Denver
X-WR-TIMEZONE:America/Denver
BEGIN:VEVENT
UID:1424@nfseniorconnections.org
DTSTART;TZID=America/Denver:20250313T100000
DTEND;TZID=America/Denver:20250313T123000
DTSTAMP:20250307T205605Z
URL:https://nfseniorconnections.org/events/philip-salembier-senior-film/
SUMMARY:Philip Salembier Senior Film
DESCRIPTION:Free for those 60+. All Points Transit will be available for tr
 ansportation with reservations 970-874-7334.\n\nSophie (Meryl Streep) is t
 he survivor of Nazi concentration camps\, who has found a reason to live w
 ith Nathan\, a sparkling if unsteady American Jew obsessed with the Holoca
 ust. They befriend Stingo\, the movie’s narrator\, a young American writ
 er new to New York City. But the happiness of Sophie and Nathan is endange
 red by her ghosts and his obsessions.\n\nDirector: Alan J. Pakula\nProduce
 r: Alan J. Pakula\, Keith Barish\nScreenwriter: Alan J. Pakula\nGenre: Dra
 ma\nRuntime: 2h 30m
ATTACH;FMTTYPE=image/jpeg:https://nfseniorconnections.org/wp-content/uploa
 ds/2025/03/MV5BZDZiZGY3OWYtY2E3My00ZTY0LTk4NTEtYjMzMWZkNGJiMjNiXkEyXkFqcGc
 @._V1_.jpg
CATEGORIES:Activities
LOCATION:Paradise Theater\, 215 Grand Ave.\, Paonia\, CO\, 81428\, United S
 tates
X-APPLE-STRUCTURED-LOCATION;VALUE=URI;X-ADDRESS=215 Grand Ave.\, Paonia\, C
 O\, 81428\, United States;X-APPLE-RADIUS=100;X-TITLE=Paradise Theater:geo:
 0,0
END:VEVENT
BEGIN:VTIMEZONE
TZID:America/Denver
X-LIC-LOCATION:America/Denver
BEGIN:DAYLIGHT
DTSTART:20250309T030000
TZOFFSETFROM:-0700
TZOFFSETTO:-0600
TZNAME:MDT
END:DAYLIGHT
END:VTIMEZONE
END:VCALENDAR