BEGIN:VCALENDAR
VERSION:2.0
PRODID:-//wp-events-plugin.com//7.2.3.1//EN
TZID:America/Denver
X-WR-TIMEZONE:America/Denver
BEGIN:VEVENT
UID:2740@nfseniorconnections.org
DTSTART;TZID=America/Denver:20251204T120000
DTEND;TZID=America/Denver:20251204T130000
DTSTAMP:20260330T230750Z
URL:https://nfseniorconnections.org/events/paonia-senior-center-catered-lu
 nches-3-2025-04-03-2025-04-10-2025-04-17-2025-04-24-2025-05-01-2025-05-08-
 2025-05-15-2025-05-22-2025-05-29-2025-06-05-2025-06-12-2025-06-19-2025-06-
 26-2025-27-2025-12-04/
SUMMARY:Paonia Senior Center Catered Lunches
DESCRIPTION:Thursday catered lunches include meals from local restaurants\,
  cooked by local chefs. Sign up starts on the Friday preceding the lunch y
 ou plan to attend by calling (970) 527-3435\, or signing up in person at t
 he Senior Center. $6 donation requested.\n\nApril 2 Rio Bravo • April 9 
 Sweetgrass • April 16 Clean Kitchen (New!) • April 23rd Clemie Bouton 
 • April 30th Potluck
CATEGORIES:Meals
LOCATION:Paonia Senior Center\, 106 3rd St\, Paonia\, Colorado\, 81428\, Un
 ited States
X-APPLE-STRUCTURED-LOCATION;VALUE=URI;X-ADDRESS=106 3rd St\, Paonia\, Color
 ado\, 81428\, United States;X-APPLE-RADIUS=100;X-TITLE=Paonia Senior Cente
 r:geo:0,0
END:VEVENT
BEGIN:VTIMEZONE
TZID:America/Denver
X-LIC-LOCATION:America/Denver
BEGIN:STANDARD
DTSTART:20251102T010000
TZOFFSETFROM:-0600
TZOFFSETTO:-0700
TZNAME:MST
END:STANDARD
END:VTIMEZONE
END:VCALENDAR