BEGIN:VCALENDAR
VERSION:2.0
PRODID:-//wp-events-plugin.com//7.2.3.1//EN
TZID:America/Denver
X-WR-TIMEZONE:America/Denver
BEGIN:VEVENT
UID:2291@nfseniorconnections.org
DTSTART;TZID=America/Denver:20260319T120000
DTEND;TZID=America/Denver:20260319T130000
DTSTAMP:20260303T212525Z
URL:https://nfseniorconnections.org/events/paonia-senior-center-catered-lu
 nches-2-2026-03-05-2026-03-12-2026-03-19/
SUMMARY:Paonia Senior Center Catered Lunches
DESCRIPTION:Thursday catered lunches include meals from local restaurants\,
  cooked by local chefs. Sign up starts on the Friday preceding the lunch y
 ou plan to attend by calling (970) 527-3435\, or signing up in person at t
 he Senior Center. $6-$10 donation requested.\n\nMarch 5 AP Catering • Ma
 rch 12 Sweetgrass • March 19 Chrys Bailey • March 26 Flying Fork
CATEGORIES:Meals
LOCATION:Paonia Senior Center\, 106 3rd St\, Paonia\, Colorado\, 81428\, Un
 ited States
X-APPLE-STRUCTURED-LOCATION;VALUE=URI;X-ADDRESS=106 3rd St\, Paonia\, Color
 ado\, 81428\, United States;X-APPLE-RADIUS=100;X-TITLE=Paonia Senior Cente
 r:geo:0,0
END:VEVENT
BEGIN:VTIMEZONE
TZID:America/Denver
X-LIC-LOCATION:America/Denver
BEGIN:DAYLIGHT
DTSTART:20260308T030000
TZOFFSETFROM:-0700
TZOFFSETTO:-0600
TZNAME:MDT
END:DAYLIGHT
END:VTIMEZONE
END:VCALENDAR