BEGIN:VCALENDAR
VERSION:2.0
PRODID:-//wp-events-plugin.com//7.2.3.1//EN
TZID:America/Denver
X-WR-TIMEZONE:America/Denver
BEGIN:VEVENT
UID:2014@nfseniorconnections.org
DTSTART;TZID=America/Denver:20250807T090000
DTEND;TZID=America/Denver:20250807T100000
DTSTAMP:20250801T194555Z
URL:https://nfseniorconnections.org/events/north-fork-river-walks-2025-07-
 03-2025-07-10-2025-07-17-2025-07-24-2025-07-31-2025-08-07/
SUMMARY:North Fork River Walks
DESCRIPTION:Led by a volunteer. Meet at the gazebo in River Park parking lo
 t on the east side of Grand Avenue\, near the Paonia Museum. Enjoy exercis
 e in congenial company and beautiful surroundings. Sun and mosquito protec
 tion/water recommended.
CATEGORIES:Activities,Health &amp; Wellness
END:VEVENT
BEGIN:VTIMEZONE
TZID:America/Denver
X-LIC-LOCATION:America/Denver
BEGIN:DAYLIGHT
DTSTART:20250309T030000
TZOFFSETFROM:-0700
TZOFFSETTO:-0600
TZNAME:MDT
END:DAYLIGHT
END:VTIMEZONE
END:VCALENDAR