BEGIN:VCALENDAR
VERSION:2.0
PRODID:-//wp-events-plugin.com//7.2.3.1//EN
TZID:America/Denver
X-WR-TIMEZONE:America/Denver
BEGIN:VEVENT
UID:2038@nfseniorconnections.org
DTSTART;TZID=America/Denver:20260122T090000
DTEND;TZID=America/Denver:20260122T100000
DTSTAMP:20250701T215509Z
URL:https://nfseniorconnections.org/events/north-fork-river-walks-2025-07-
 03-2025-07-10-2025-07-17-2025-07-24-2025-07-31-2025-08-07-2025-08-14-2025-
 08-21-2025-08-28-2025-09-04-2025-09-11-2025-09-18-2025-09-25-2025-10-02-20
 25-10-0-15-2026-01-22/
SUMMARY:North Fork River Walks
DESCRIPTION:
CATEGORIES:Activities,Health &amp; Wellness
END:VEVENT
BEGIN:VTIMEZONE
TZID:America/Denver
X-LIC-LOCATION:America/Denver
BEGIN:STANDARD
DTSTART:20251102T010000
TZOFFSETFROM:-0600
TZOFFSETTO:-0700
TZNAME:MST
END:STANDARD
END:VTIMEZONE
END:VCALENDAR