BEGIN:VCALENDAR
VERSION:2.0
PRODID:-//wp-events-plugin.com//7.2.3.1//EN
TZID:America/Denver
X-WR-TIMEZONE:America/Denver
BEGIN:VEVENT
UID:2084@nfseniorconnections.org
DTSTART;TZID=America/Denver:20250806T120000
DTEND;TZID=America/Denver:20250806T133000
DTSTAMP:20250801T210654Z
URL:https://nfseniorconnections.org/events/nfsc-lunches-in-crawford/
SUMMARY:NFSC Lunches in Crawford
DESCRIPTION:At noon on the first and third Wednesdays of each month at Craw
 ford Community Church\, gather with your fellow elders for lunch and a sti
 mulating program.\n\nAugust 6th\, local favorite The Boardwalk will cater 
 the meal\, followed by “Tales from the Good Ol’ Days\,” an interacti
 ve endeavor with Yuri Chicovsky. Yuri\, a gifted teacher\, filmmaker\, and
  musician\, has long facilitated a lively memoir group at the Paonia Senio
 r Center\; in Crawford he wants to hear YOUR stories\, especially about Cr
 awford way-back-when.\n\nTo make reservations (required) for the catered m
 eal\, please call NFSC board member Wanda Gofforth at (970) 216-6345.\n\n$
 6 donation.
CATEGORIES:Activities,Meals
LOCATION:Crawford Community Church\, 297 Dogwood Ave.\, Crawford\, CO\, 814
 15\, United States
X-APPLE-STRUCTURED-LOCATION;VALUE=URI;X-ADDRESS=297 Dogwood Ave.\, Crawford
 \, CO\, 81415\, United States;X-APPLE-RADIUS=100;X-TITLE=Crawford Communit
 y Church:geo:0,0
END:VEVENT
BEGIN:VTIMEZONE
TZID:America/Denver
X-LIC-LOCATION:America/Denver
BEGIN:DAYLIGHT
DTSTART:20250309T030000
TZOFFSETFROM:-0700
TZOFFSETTO:-0600
TZNAME:MDT
END:DAYLIGHT
END:VTIMEZONE
END:VCALENDAR