BEGIN:VCALENDAR
VERSION:2.0
PRODID:-//wp-events-plugin.com//7.2.3.1//EN
TZID:America/Denver
X-WR-TIMEZONE:America/Denver
BEGIN:VEVENT
UID:2076@nfseniorconnections.org
DTSTART;TZID=America/Denver:20250818T180000
DTEND;TZID=America/Denver:20250818T200000
DTSTAMP:20250801T203223Z
URL:https://nfseniorconnections.org/events/nfsc-kids-pasta-dinner/
SUMMARY:NFSC Kid's Pasta Dinner
DESCRIPTION:Kid's Pasta Project is serving appetizers\, lasagne\, salad\, a
 rtisan bread &amp\; dessert. And it's a fundraiser for North Fork Senior C
 onnections.\n\n$25 adults / $15 for 12 and under.\n\nAnd there's a Wine Gr
 ab!\n\nReservations required! Be sure to to email kppreservations@gmail.co
 m or text Moni at (970) 250‐6836. and make reservations by Friday\, Augu
 st 15th at 5:00 PM.\n\nVegetarian and gluten free options available but mu
 st be noted when making reservation.\n\n
CATEGORIES:Activities
LOCATION:The Creamery Arts Center\, 165 W Bridge Stree\, Hotchkiss\, Colora
 do\, 81419\, United States
X-APPLE-STRUCTURED-LOCATION;VALUE=URI;X-ADDRESS=165 W Bridge Stree\, Hotchk
 iss\, Colorado\, 81419\, United States;X-APPLE-RADIUS=100;X-TITLE=The Crea
 mery Arts Center:geo:0,0
END:VEVENT
BEGIN:VTIMEZONE
TZID:America/Denver
X-LIC-LOCATION:America/Denver
BEGIN:DAYLIGHT
DTSTART:20250309T030000
TZOFFSETFROM:-0700
TZOFFSETTO:-0600
TZNAME:MDT
END:DAYLIGHT
END:VTIMEZONE
END:VCALENDAR