BEGIN:VCALENDAR
VERSION:2.0
PRODID:-//wp-events-plugin.com//7.2.3.1//EN
TZID:America/Denver
X-WR-TIMEZONE:America/Denver
BEGIN:VEVENT
UID:2115@nfseniorconnections.org
DTSTART;TZID=America/Denver:20250827T113000
DTEND;TZID=America/Denver:20250827T140000
DTSTAMP:20250801T220053Z
URL:https://nfseniorconnections.org/events/lunch-at-the-trading-post/
SUMMARY:Lunch at The Trading Post
DESCRIPTION:Chrys Bailey's Senior Luncheon at The Trading Post on Wednesday
 \, 8/27\, from 11:30 -2 pm. Enjoy amazing food and fabulous presenter Norm
  Lewark. Please reserve a spot by texting Faye on (970) 209-9721.\n\nSugge
 sted donation $25.
CATEGORIES:Activities
END:VEVENT
BEGIN:VTIMEZONE
TZID:America/Denver
X-LIC-LOCATION:America/Denver
BEGIN:DAYLIGHT
DTSTART:20250309T030000
TZOFFSETFROM:-0700
TZOFFSETTO:-0600
TZNAME:MDT
END:DAYLIGHT
END:VTIMEZONE
END:VCALENDAR