BEGIN:VCALENDAR
VERSION:2.0
PRODID:-//wp-events-plugin.com//7.2.3.1//EN
TZID:America/Denver
X-WR-TIMEZONE:America/Denver
BEGIN:VEVENT
UID:2243@nfseniorconnections.org
DTSTART;TZID=America/Denver:20260203T120000
DTEND;TZID=America/Denver:20260630T130000
DTSTAMP:20260330T180352Z
URL:https://nfseniorconnections.org/events/hotchkiss-senior-center-lunch-2
 /
SUMMARY:Hotchkiss Senior Center Lunch
DESCRIPTION:
CATEGORIES:Meals
LOCATION:Hotchkiss Senior Center\, 276 W Main St\, Hotchkiss\, Colorado\, 8
 1419\, United States
X-APPLE-STRUCTURED-LOCATION;VALUE=URI;X-ADDRESS=276 W Main St\, Hotchkiss\,
  Colorado\, 81419\, United States;X-APPLE-RADIUS=100;X-TITLE=Hotchkiss Sen
 ior Center:geo:0,0
END:VEVENT
BEGIN:VTIMEZONE
TZID:America/Denver
X-LIC-LOCATION:America/Denver
BEGIN:STANDARD
DTSTART:20251102T010000
TZOFFSETFROM:-0600
TZOFFSETTO:-0700
TZNAME:MST
END:STANDARD
BEGIN:DAYLIGHT
DTSTART:20260308T030000
TZOFFSETFROM:-0700
TZOFFSETTO:-0600
TZNAME:MDT
END:DAYLIGHT
END:VTIMEZONE
END:VCALENDAR