BEGIN:VCALENDAR
VERSION:2.0
PRODID:-//wp-events-plugin.com//7.2.3.1//EN
TZID:America/Denver
X-WR-TIMEZONE:America/Denver
BEGIN:VEVENT
UID:2170@nfseniorconnections.org
DTSTART;TZID=America/Denver:20260225T133000
DTEND;TZID=America/Denver:20260225T143000
DTSTAMP:20260217T203857Z
URL:https://nfseniorconnections.org/events/dementia-caregivers-support-gro
 up-hotchkiss/
SUMMARY:Dementia Caregivers Support Group Hotchkiss
DESCRIPTION:
CATEGORIES:Activities
END:VEVENT
BEGIN:VTIMEZONE
TZID:America/Denver
X-LIC-LOCATION:America/Denver
BEGIN:STANDARD
DTSTART:20251102T010000
TZOFFSETFROM:-0600
TZOFFSETTO:-0700
TZNAME:MST
END:STANDARD
END:VTIMEZONE
END:VCALENDAR