BEGIN:VCALENDAR
VERSION:2.0
PRODID:-//wp-events-plugin.com//7.2.3.1//EN
TZID:America/Denver
X-WR-TIMEZONE:America/Denver
BEGIN:VEVENT
UID:2121@nfseniorconnections.org
DTSTART;TZID=America/Denver:20251203T093000
DTEND;TZID=America/Denver:20251203T100000
DTSTAMP:20251201T213104Z
URL:https://nfseniorconnections.org/events/deck-the-paonia-senior-center/
SUMMARY:Deck the Paonia Senior Center
DESCRIPTION:Come help decorate for the winter holidays in a festive atmosph
 ere.
CATEGORIES:Activities
LOCATION:Paonia Senior Center\, 106 3rd St\, Paonia\, Colorado\, 81428\, Un
 ited States
X-APPLE-STRUCTURED-LOCATION;VALUE=URI;X-ADDRESS=106 3rd St\, Paonia\, Color
 ado\, 81428\, United States;X-APPLE-RADIUS=100;X-TITLE=Paonia Senior Cente
 r:geo:0,0
END:VEVENT
BEGIN:VTIMEZONE
TZID:America/Denver
X-LIC-LOCATION:America/Denver
BEGIN:STANDARD
DTSTART:20251102T010000
TZOFFSETFROM:-0600
TZOFFSETTO:-0700
TZNAME:MST
END:STANDARD
END:VTIMEZONE
END:VCALENDAR