BEGIN:VCALENDAR
VERSION:2.0
PRODID:-//wp-events-plugin.com//7.2.3.1//EN
TZID:America/Denver
X-WR-TIMEZONE:America/Denver
BEGIN:VEVENT
UID:1866@nfseniorconnections.org
DTSTART;TZID=America/Denver:20250412T140000
DTEND;TZID=America/Denver:20250412T160000
DTSTAMP:20250402T194828Z
URL:https://nfseniorconnections.org/events/celebration-nfscs-new-home-at-p
 aonia-senior-center/
SUMMARY:Celebration: NFSC's new home at Paonia Senior Center!
DESCRIPTION:Join us this afternoon for a celebration of the unification of 
 Paonia's Senior Center with the office of North Fork Senior Connections\, 
 the North Fork's homegrown volunteer organization serving seniors - someth
 ing you may have thought occurred awhile ago. NFSC has been sharing office
  space at the Senior Center for some time now\, and we've just made if off
 icial!\n\nStop in\, grab some refreshments\, and raise a toast to wish us 
 well as we offer an expanded menu of new activities for our growing popula
 tion of elders at a familiar and well-established venue.
CATEGORIES:Activities
LOCATION:Paonia Senior Center\, 106 3rd St\, Paonia\, Colorado\, 81428\, Un
 ited States
X-APPLE-STRUCTURED-LOCATION;VALUE=URI;X-ADDRESS=106 3rd St\, Paonia\, Color
 ado\, 81428\, United States;X-APPLE-RADIUS=100;X-TITLE=Paonia Senior Cente
 r:geo:0,0
END:VEVENT
BEGIN:VTIMEZONE
TZID:America/Denver
X-LIC-LOCATION:America/Denver
BEGIN:DAYLIGHT
DTSTART:20250309T030000
TZOFFSETFROM:-0700
TZOFFSETTO:-0600
TZNAME:MDT
END:DAYLIGHT
END:VTIMEZONE
END:VCALENDAR