BEGIN:VCALENDAR
VERSION:2.0
PRODID:-//wp-events-plugin.com//7.2.3.1//EN
TZID:America/Denver
X-WR-TIMEZONE:America/Denver
BEGIN:VEVENT
UID:1888@nfseniorconnections.org
DTSTART;TZID=America/Denver:20250501T120000
DTEND;TZID=America/Denver:20250501T130000
DTSTAMP:20250503T003018Z
URL:https://nfseniorconnections.org/events/catered-lunches-at-the-senior-c
 enter/
SUMMARY:Catered lunches at the Senior Center
DESCRIPTION:This week's meal is catered by The Flying Fork. Reservations Re
 quired - Sign up starts the Friday before next Thursday's lunch. Call 527-
 3435 or reserve in person.
CATEGORIES:Activities
LOCATION:Paonia Senior Center\, 106 3rd St\, Paonia\, Colorado\, 81428\, Un
 ited States
X-APPLE-STRUCTURED-LOCATION;VALUE=URI;X-ADDRESS=106 3rd St\, Paonia\, Color
 ado\, 81428\, United States;X-APPLE-RADIUS=100;X-TITLE=Paonia Senior Cente
 r:geo:0,0
END:VEVENT
BEGIN:VTIMEZONE
TZID:America/Denver
X-LIC-LOCATION:America/Denver
BEGIN:DAYLIGHT
DTSTART:20250309T030000
TZOFFSETFROM:-0700
TZOFFSETTO:-0600
TZNAME:MDT
END:DAYLIGHT
END:VTIMEZONE
END:VCALENDAR