BEGIN:VCALENDAR
VERSION:2.0
PRODID:-//wp-events-plugin.com//7.2.3.1//EN
TZID:America/Denver
X-WR-TIMEZONE:America/Denver
BEGIN:VEVENT
UID:2286@nfseniorconnections.org
DTSTART;TZID=America/Denver:20260312T170000
DTEND;TZID=America/Denver:20260312T200000
DTSTAMP:20260303T212132Z
URL:https://nfseniorconnections.org/events/casablanca-at-the-paradise-thea
 tre-featuring-a-silent-auction/
SUMMARY:Casablanca at The Paradise Theatre\, featuring a Silent Auction
DESCRIPTION:North Fork Senior Connections presents "Casablanca" at the Para
 dise Theatre\, along with a Silent Auction on Thursday March 12th. Doors o
 pen @ 5pm\, Movie starts @ 6pm.\n\nTickets are at the door by donation. Th
 is is a fundraising event for North Fork Senior Connections.\nCome and joi
 n us for an elegant evening with special guests and surprises\, a great cl
 assic movie\, and silent auction fun!\n\nDressing up in your best 1940's a
 ttire to fit the theme of the evening is encouraged! We look forward to se
 eing you there.\n\n"Here's lookin' at you\, kid."
CATEGORIES:Activities,Fundraiser
LOCATION:Paradise Theater\, 215 Grand Ave.\, Paonia\, CO\, 81428\, United S
 tates
X-APPLE-STRUCTURED-LOCATION;VALUE=URI;X-ADDRESS=215 Grand Ave.\, Paonia\, C
 O\, 81428\, United States;X-APPLE-RADIUS=100;X-TITLE=Paradise Theater:geo:
 0,0
END:VEVENT
BEGIN:VTIMEZONE
TZID:America/Denver
X-LIC-LOCATION:America/Denver
BEGIN:DAYLIGHT
DTSTART:20260308T030000
TZOFFSETFROM:-0700
TZOFFSETTO:-0600
TZNAME:MDT
END:DAYLIGHT
END:VTIMEZONE
END:VCALENDAR