BEGIN:VCALENDAR
VERSION:2.0
PRODID:-//wp-events-plugin.com//7.2.3.1//EN
TZID:America/Denver
X-WR-TIMEZONE:America/Denver
BEGIN:VEVENT
UID:1927@nfseniorconnections.org
DTSTART;TZID=America/Denver:20250722T140000
DTEND;TZID=America/Denver:20250722T150000
DTSTAMP:20250628T204956Z
URL:https://nfseniorconnections.org/events/book-club-2/
SUMMARY:Book Club
DESCRIPTION:We will be discussing "Remarkably Bright Creatures"\,  a novel
  by American author Shelby Van Pelt. It was published in May 2022 by Ecco 
 Press. It has been on the New York Times hardcover fiction best-seller lis
 t multiple times. It was awarded the 2023 McLaughlin-Esstman-Stearns First
  Novel Prize by the Writer's Center.
CATEGORIES:Activities
LOCATION:Paonia Senior Center\, 106 3rd St\, Paonia\, Colorado\, 81428\, Un
 ited States
X-APPLE-STRUCTURED-LOCATION;VALUE=URI;X-ADDRESS=106 3rd St\, Paonia\, Color
 ado\, 81428\, United States;X-APPLE-RADIUS=100;X-TITLE=Paonia Senior Cente
 r:geo:0,0
END:VEVENT
BEGIN:VTIMEZONE
TZID:America/Denver
X-LIC-LOCATION:America/Denver
BEGIN:DAYLIGHT
DTSTART:20250309T030000
TZOFFSETFROM:-0700
TZOFFSETTO:-0600
TZNAME:MDT
END:DAYLIGHT
END:VTIMEZONE
END:VCALENDAR