BEGIN:VCALENDAR
VERSION:2.0
PRODID:-//wp-events-plugin.com//7.2.3.1//EN
TZID:America/Denver
X-WR-TIMEZONE:America/Denver
BEGIN:VEVENT
UID:2041@nfseniorconnections.org
DTSTART;TZID=America/Denver:20250715T140000
DTEND;TZID=America/Denver:20250715T144500
DTSTAMP:20250702T181137Z
URL:https://nfseniorconnections.org/events/basic-breath-mechanics/
SUMMARY:Basic Breath Mechanics
DESCRIPTION:As requested by many who attended his first offering\, Derek Ud
 y will present three more sessions here at the Paonia Senior Center of his
  “Breathing to Save Your Life” classes. He will be on hand for 3 Tuesd
 ays @ 2: July 15\, August 5\, and August 19.\n\nDerek will be teaching bas
 ic breathing mechanics\, the how\, what\, when and where of breathing and 
 how to apply to daily life for maximum benefits. Class will only last 45 m
 inutes\, so be ready to start by 2pm! By donation.
CATEGORIES:Activities,Health &amp; Wellness
LOCATION:Paonia Senior Center\, 106 3rd St\, Paonia\, Colorado\, 81428\, Un
 ited States
X-APPLE-STRUCTURED-LOCATION;VALUE=URI;X-ADDRESS=106 3rd St\, Paonia\, Color
 ado\, 81428\, United States;X-APPLE-RADIUS=100;X-TITLE=Paonia Senior Cente
 r:geo:0,0
END:VEVENT
BEGIN:VTIMEZONE
TZID:America/Denver
X-LIC-LOCATION:America/Denver
BEGIN:DAYLIGHT
DTSTART:20250309T030000
TZOFFSETFROM:-0700
TZOFFSETTO:-0600
TZNAME:MDT
END:DAYLIGHT
END:VTIMEZONE
END:VCALENDAR